BEGIN:VCALENDAR
VERSION:2.0
PRODID:-//Astrid-Lindgren-Schule - ECPv6.8.1//NONSGML v1.0//EN
CALSCALE:GREGORIAN
METHOD:PUBLISH
X-ORIGINAL-URL:https://www.ggs-huels.de
X-WR-CALDESC:Veranstaltungen für Astrid-Lindgren-Schule
REFRESH-INTERVAL;VALUE=DURATION:PT1H
X-Robots-Tag:noindex
X-PUBLISHED-TTL:PT1H
BEGIN:VTIMEZONE
TZID:Europe/Berlin
BEGIN:DAYLIGHT
TZOFFSETFROM:+0100
TZOFFSETTO:+0200
TZNAME:CEST
DTSTART:20260329T010000
END:DAYLIGHT
BEGIN:STANDARD
TZOFFSETFROM:+0200
TZOFFSETTO:+0100
TZNAME:CET
DTSTART:20261025T010000
END:STANDARD
END:VTIMEZONE
BEGIN:VEVENT
DTSTART;VALUE=DATE:20260202
DTEND;VALUE=DATE:20260207
DTSTAMP:20260421T152953
CREATED:20260128T102453Z
LAST-MODIFIED:20260128T102453Z
UID:1864-1769990400-1770422399@www.ggs-huels.de
SUMMARY:Buchwoche
DESCRIPTION:
URL:https://www.ggs-huels.de/event/buchwoche/
END:VEVENT
BEGIN:VEVENT
DTSTART;TZID=Europe/Berlin:20260206T080000
DTEND;TZID=Europe/Berlin:20260206T110000
DTSTAMP:20260421T152953
CREATED:20250902T060737Z
LAST-MODIFIED:20250902T060737Z
UID:1793-1770364800-1770375600@www.ggs-huels.de
SUMMARY:Zeugnisausgabe
DESCRIPTION:Unterricht endet um 11.00 Uhr
URL:https://www.ggs-huels.de/event/zeugnisausgabe/
END:VEVENT
BEGIN:VEVENT
DTSTART;TZID=Europe/Berlin:20260212T074500
DTEND;TZID=Europe/Berlin:20260212T111100
DTSTAMP:20260421T152953
CREATED:20250901T142217Z
LAST-MODIFIED:20250901T143745Z
UID:1752-1770882300-1770894660@www.ggs-huels.de
SUMMARY:Altweiber
DESCRIPTION:Karnevalsfeier in den Klassen
URL:https://www.ggs-huels.de/event/altweiber/
END:VEVENT
BEGIN:VEVENT
DTSTART;VALUE=DATE:20260216
DTEND;VALUE=DATE:20260217
DTSTAMP:20260421T152953
CREATED:20250901T144932Z
LAST-MODIFIED:20260128T165015Z
UID:1762-1771200000-1771286399@www.ggs-huels.de
SUMMARY:Schule geschlossen (keine OGS/Betreuung)
DESCRIPTION:Rosenmontag
URL:https://www.ggs-huels.de/event/schule-geschlossen-2/
END:VEVENT
BEGIN:VEVENT
DTSTART;VALUE=DATE:20260217
DTEND;VALUE=DATE:20260218
DTSTAMP:20260421T152953
CREATED:20250901T143020Z
LAST-MODIFIED:20250901T143020Z
UID:1754-1771286400-1771372799@www.ggs-huels.de
SUMMARY:Kein Unterricht - OGS geöffnet
DESCRIPTION:Veilchendienstag
URL:https://www.ggs-huels.de/event/kein-unterricht-ogs-geoeffnet/
END:VEVENT
END:VCALENDAR