BEGIN:VCALENDAR
VERSION:2.0
PRODID:-//Astrid-Lindgren-Schule - ECPv6.8.1//NONSGML v1.0//EN
CALSCALE:GREGORIAN
METHOD:PUBLISH
X-ORIGINAL-URL:https://www.ggs-huels.de
X-WR-CALDESC:Veranstaltungen für Astrid-Lindgren-Schule
REFRESH-INTERVAL;VALUE=DURATION:PT1H
X-Robots-Tag:noindex
X-PUBLISHED-TTL:PT1H
BEGIN:VTIMEZONE
TZID:Europe/Berlin
BEGIN:DAYLIGHT
TZOFFSETFROM:+0100
TZOFFSETTO:+0200
TZNAME:CEST
DTSTART:20250330T010000
END:DAYLIGHT
BEGIN:STANDARD
TZOFFSETFROM:+0200
TZOFFSETTO:+0100
TZNAME:CET
DTSTART:20251026T010000
END:STANDARD
END:VTIMEZONE
BEGIN:VEVENT
DTSTART;TZID=Europe/Berlin:20250521T190000
DTEND;TZID=Europe/Berlin:20250521T203000
DTSTAMP:20260421T190036
CREATED:20250410T095438Z
LAST-MODIFIED:20250410T095438Z
UID:1650-1747854000-1747859400@www.ggs-huels.de
SUMMARY:Elternabend für das kommende erste Schuljahr
DESCRIPTION:
URL:https://www.ggs-huels.de/event/elternabend-fuer-das-kommende-erste-schuljahr/
LOCATION:Aula Standort A\, Amerner Straße 1-3
END:VEVENT
END:VCALENDAR