BEGIN:VCALENDAR
VERSION:2.0
PRODID:-//Astrid-Lindgren-Schule - ECPv6.8.1//NONSGML v1.0//EN
CALSCALE:GREGORIAN
METHOD:PUBLISH
X-ORIGINAL-URL:https://www.ggs-huels.de
X-WR-CALDESC:Veranstaltungen für Astrid-Lindgren-Schule
REFRESH-INTERVAL;VALUE=DURATION:PT1H
X-Robots-Tag:noindex
X-PUBLISHED-TTL:PT1H
BEGIN:VTIMEZONE
TZID:Europe/Berlin
BEGIN:DAYLIGHT
TZOFFSETFROM:+0100
TZOFFSETTO:+0200
TZNAME:CEST
DTSTART:20250330T010000
END:DAYLIGHT
BEGIN:STANDARD
TZOFFSETFROM:+0200
TZOFFSETTO:+0100
TZNAME:CET
DTSTART:20251026T010000
END:STANDARD
END:VTIMEZONE
BEGIN:VEVENT
DTSTART;TZID=Europe/Berlin:20250304T081500
DTEND;TZID=Europe/Berlin:20250304T111100
DTSTAMP:20260421T222307
CREATED:20241110T134313Z
LAST-MODIFIED:20250113T150830Z
UID:984-1741076100-1741086660@www.ggs-huels.de
SUMMARY:Karnevalsfeier für die Klassen 1 und 2
DESCRIPTION:08:15 bis 11:11 Uhr
URL:https://www.ggs-huels.de/event/karnevalsfeier-fuer-die-klassen-1-und-2/
END:VEVENT
BEGIN:VEVENT
DTSTART;TZID=Europe/Berlin:20250304T141100
DTEND;TZID=Europe/Berlin:20250304T141100
DTSTAMP:20260421T222307
CREATED:20241110T134147Z
LAST-MODIFIED:20250219T183436Z
UID:980-1741097460-1741097460@www.ggs-huels.de
SUMMARY:Karnevalszug für die Klassen 3 und 4
DESCRIPTION:ab 13:11 Uhr
URL:https://www.ggs-huels.de/event/karnevalsfeier-in-der-schule-fuer-die-klassen-1-und-2/
END:VEVENT
END:VCALENDAR