BEGIN:VCALENDAR
VERSION:2.0
PRODID:-//Astrid-Lindgren-Schule - ECPv6.8.1//NONSGML v1.0//EN
CALSCALE:GREGORIAN
METHOD:PUBLISH
X-ORIGINAL-URL:https://www.ggs-huels.de
X-WR-CALDESC:Veranstaltungen für Astrid-Lindgren-Schule
REFRESH-INTERVAL;VALUE=DURATION:PT1H
X-Robots-Tag:noindex
X-PUBLISHED-TTL:PT1H
BEGIN:VTIMEZONE
TZID:Europe/Berlin
BEGIN:DAYLIGHT
TZOFFSETFROM:+0100
TZOFFSETTO:+0200
TZNAME:CEST
DTSTART:20240331T010000
END:DAYLIGHT
BEGIN:STANDARD
TZOFFSETFROM:+0200
TZOFFSETTO:+0100
TZNAME:CET
DTSTART:20241027T010000
END:STANDARD
END:VTIMEZONE
BEGIN:VEVENT
DTSTART;TZID=Europe/Berlin:20241210T110000
DTEND;TZID=Europe/Berlin:20241210T120000
DTSTAMP:20260422T033626
CREATED:20241123T234711Z
LAST-MODIFIED:20250113T150747Z
UID:1130-1733828400-1733832000@www.ggs-huels.de
SUMMARY:Theater Blaues Haus - 1. Klassen
DESCRIPTION:11:00 bis 12:00 Uhr | Die Weihnachtsgans Auguste
URL:https://www.ggs-huels.de/event/theater-blaues-haus-1-klassen/
END:VEVENT
END:VCALENDAR