BEGIN:VCALENDAR
VERSION:2.0
PRODID:-//Astrid-Lindgren-Schule - ECPv6.8.1//NONSGML v1.0//EN
CALSCALE:GREGORIAN
METHOD:PUBLISH
X-ORIGINAL-URL:https://www.ggs-huels.de
X-WR-CALDESC:Veranstaltungen für Astrid-Lindgren-Schule
REFRESH-INTERVAL;VALUE=DURATION:PT1H
X-Robots-Tag:noindex
X-PUBLISHED-TTL:PT1H
BEGIN:VTIMEZONE
TZID:Europe/Berlin
BEGIN:DAYLIGHT
TZOFFSETFROM:+0100
TZOFFSETTO:+0200
TZNAME:CEST
DTSTART:20240331T010000
END:DAYLIGHT
BEGIN:STANDARD
TZOFFSETFROM:+0200
TZOFFSETTO:+0100
TZNAME:CET
DTSTART:20241027T010000
END:STANDARD
END:VTIMEZONE
BEGIN:VEVENT
DTSTART;TZID=Europe/Berlin:20241130T120000
DTEND;TZID=Europe/Berlin:20241201T120000
DTSTAMP:20260422T033543
CREATED:20241123T234038Z
LAST-MODIFIED:20250113T150634Z
UID:1124-1732968000-1733054400@www.ggs-huels.de
SUMMARY:Adventsbasar im Heinrich-Joeppenhaus mit Stand unseres Fördervereins
DESCRIPTION:ab 12:00 Uhr
URL:https://www.ggs-huels.de/event/adventsbasar-im-heinrich-joeppenhaus-mit-stand-unseres-foerdervereins/
END:VEVENT
END:VCALENDAR